BEGIN:VCALENDAR
VERSION:2.0
PRODID:-//The Long Island Museum - ECPv6.15.20//NONSGML v1.0//EN
CALSCALE:GREGORIAN
METHOD:PUBLISH
X-WR-CALNAME:The Long Island Museum
X-ORIGINAL-URL:https://longislandmuseum.org
X-WR-CALDESC:Events for The Long Island Museum
REFRESH-INTERVAL;VALUE=DURATION:PT1H
X-Robots-Tag:noindex
X-PUBLISHED-TTL:PT1H
BEGIN:VTIMEZONE
TZID:UTC
BEGIN:STANDARD
TZOFFSETFROM:+0000
TZOFFSETTO:+0000
TZNAME:UTC
DTSTART:20250101T000000
END:STANDARD
END:VTIMEZONE
BEGIN:VEVENT
DTSTART;TZID=UTC:20260419T170000
DTEND;TZID=UTC:20260419T190000
DTSTAMP:20260419T150532
CREATED:20260120T213647Z
LAST-MODIFIED:20260409T151001Z
UID:10000178-1776618000-1776625200@longislandmuseum.org
SUMMARY:Sunday Street Concert: Sloan Wainwright
DESCRIPTION:Sloan Wainwright is celebrated for her dramatic vocal interpretations of both her own songs and those of artists like Bob Dylan and Nick Drake. Effortlessly blending pop\, folk\, jazz\, and blues\, Wainwright brings a genre-spanning sound to every performance. \n\n\n\nShe is a member of a storied family of artists (including brother Loudon Wainwright\, sister-in-law Kate McGarrigle\, nephew Rufus Wainwright\, and nieces Martha Wainwright and Lucy Wainwright Roche)\, but since childhood\, Wainwright has always walked the artistic path all on her own. \n\n\n\nAll Sunday Street performances take place in the LIM’s Gillespie Room\, located in the Carriage Museum. \n\n\n\nSunday Street is made in collaboration with LIM\, the Port Jeff Arts Council\, and WUSB. \n\n\n\nTICKETS\n\n\n\n$30 advance discounted tickets are available at sundaystreet.org. \n\n\n\nTickets are $35 at the door\, if available
URL:https://longislandmuseum.org/event/sunday-street-concert-sloan-wainwright/
CATEGORIES:Music
ATTACH;FMTTYPE=image/jpeg:https://longislandmuseum.org/wp-content/uploads/2026/01/Sloan-Wainwright.jpg
END:VEVENT
END:VCALENDAR